BEGIN:VCALENDAR
VERSION:2.0
PRODID:HAZ Events
BEGIN:VEVENT
UID:
DTSTAMP:1776758987
SUMMARY:Daddys Day Techno Rave
LOCATION:Faust Mephisto
CLASS:PUBLIC
DTSTART:20260514T200000Z
DTEND:20260514T220000Z
END:VEVENT
END:VCALENDAR