BEGIN:VCALENDAR
VERSION:2.0
PRODID:HAZ Events
BEGIN:VEVENT
UID:
DTSTAMP:1776679740
SUMMARY:Der Astronaut &ndash; Project Hail Mary
LOCATION:Neue Schauburg
CLASS:PUBLIC
DTSTART:20260426T173000Z
DTEND:20260426T193000Z
END:VEVENT
END:VCALENDAR