BEGIN:VCALENDAR
VERSION:2.0
PRODID:HAZ Events
BEGIN:VEVENT
UID:
DTSTAMP:1776869447
SUMMARY:Ein fast perfekter Antrag
LOCATION:Neue Schauburg
CLASS:PUBLIC
DTSTART:20260429T150000Z
DTEND:20260429T170000Z
END:VEVENT
END:VCALENDAR