BEGIN:VCALENDAR
VERSION:2.0
PRODID:HAZ Events
BEGIN:VEVENT
UID:
DTSTAMP:1776759061
SUMMARY:Laatzener Nachwuchs feiert gemeinsame Erfolge
LOCATION:
CLASS:PUBLIC
DTSTART:20260425T120000Z
DTEND:20260425T140000Z
END:VEVENT
END:VCALENDAR