BEGIN:VCALENDAR
VERSION:2.0
PRODID:HAZ Events
BEGIN:VEVENT
UID:
DTSTAMP:1776759059
SUMMARY:Laatzener Nachwuchs feiert gemeinsame Erfolge
LOCATION:
CLASS:PUBLIC
DTSTART:20260425T090000Z
DTEND:20260425T110000Z
END:VEVENT
END:VCALENDAR