BEGIN:VCALENDAR
VERSION:2.0
PRODID:HAZ Events
BEGIN:VEVENT
UID:
DTSTAMP:1776767672
SUMMARY:Mind food to go &ndash; Ein Theaterst&uuml;ck
LOCATION:
CLASS:PUBLIC
DTSTART:20260509T173000Z
DTEND:20260509T193000Z
END:VEVENT
END:VCALENDAR