BEGIN:VCALENDAR
VERSION:2.0
PRODID:HAZ Events
BEGIN:VEVENT
UID:
DTSTAMP:1776855114
SUMMARY:Eltern-Baby-Gruppe
LOCATION:
CLASS:PUBLIC
DTSTART:20260601T080000Z
DTEND:20260601T100000Z
END:VEVENT
END:VCALENDAR