BEGIN:VCALENDAR
VERSION:2.0
PRODID:HAZ Events
BEGIN:VEVENT
UID:
DTSTAMP:1776854676
SUMMARY:Eltern-Baby-Gruppe
LOCATION:
CLASS:PUBLIC
DTSTART:20260504T080000Z
DTEND:20260504T100000Z
END:VEVENT
END:VCALENDAR