BEGIN:VCALENDAR
VERSION:2.0
PRODID:HAZ Events
BEGIN:VEVENT
UID:
DTSTAMP:1776848471
SUMMARY:Eltern-Baby-Gruppe
LOCATION:
CLASS:PUBLIC
DTSTART:20260427T080000Z
DTEND:20260427T100000Z
END:VEVENT
END:VCALENDAR