BEGIN:VCALENDAR
VERSION:2.0
PRODID:HAZ Events
BEGIN:VEVENT
UID:
DTSTAMP:1776771938
SUMMARY:ClassTrouble &ndash; Klassenk&ouml;rper
LOCATION:Quartier Theater
CLASS:PUBLIC
DTSTART:20260509T130000Z
DTEND:20260509T150000Z
END:VEVENT
END:VCALENDAR