BEGIN:VCALENDAR
VERSION:2.0
PRODID:HAZ Events
BEGIN:VEVENT
UID:
DTSTAMP:1776781042
SUMMARY:tanzOFFensive 2026: Festivaler&ouml;ffnung
LOCATION:Eisfabrik
CLASS:PUBLIC
DTSTART:20260508T180000Z
DTEND:20260508T200000Z
END:VEVENT
END:VCALENDAR