BEGIN:VCALENDAR
VERSION:2.0
PRODID:HAZ Events
BEGIN:VEVENT
UID:
DTSTAMP:1776786174
SUMMARY:tanzOFFensive 2026: T.R.I.P.O.F.O.B.I.A. &ndash; The End
LOCATION:Eisfabrik
CLASS:PUBLIC
DTSTART:20260509T180000Z
DTEND:20260509T200000Z
END:VEVENT
END:VCALENDAR