BEGIN:VCALENDAR
VERSION:2.0
PRODID:HAZ Events
BEGIN:VEVENT
UID:
DTSTAMP:1776772462
SUMMARY:Wertloses Dopamin
LOCATION:Cumberlandsche B&uuml;hne
CLASS:PUBLIC
DTSTART:20260510T170000Z
DTEND:20260510T190000Z
END:VEVENT
END:VCALENDAR