BEGIN:VCALENDAR
VERSION:2.0
PRODID:HAZ Events
BEGIN:VEVENT
UID:
DTSTAMP:1776767674
SUMMARY:Wertloses Dopamin
LOCATION:Cumberlandsche B&uuml;hne
CLASS:PUBLIC
DTSTART:20260509T173000Z
DTEND:20260509T193000Z
END:VEVENT
END:VCALENDAR