BEGIN:VCALENDAR
VERSION:2.0
PRODID:HAZ Events
BEGIN:VEVENT
UID:
DTSTAMP:1776774353
SUMMARY:Die tote Stadt
LOCATION:Opernhaus
CLASS:PUBLIC
DTSTART:20260607T163000Z
DTEND:20260607T183000Z
END:VEVENT
END:VCALENDAR