BEGIN:VCALENDAR
VERSION:2.0
PRODID:HAZ Events
BEGIN:VEVENT
UID:
DTSTAMP:1776774370
SUMMARY:Die tote Stadt
LOCATION:Opernhaus
CLASS:PUBLIC
DTSTART:20260529T173000Z
DTEND:20260529T193000Z
END:VEVENT
END:VCALENDAR