BEGIN:VCALENDAR
VERSION:2.0
PRODID:HAZ Events
BEGIN:VEVENT
UID:
DTSTAMP:1776774308
SUMMARY:Die tote Stadt
LOCATION:Opernhaus
CLASS:PUBLIC
DTSTART:20260514T163000Z
DTEND:20260514T183000Z
END:VEVENT
END:VCALENDAR