BEGIN:VCALENDAR
VERSION:2.0
PRODID:HAZ Events
BEGIN:VEVENT
UID:
DTSTAMP:1776821652
SUMMARY:Das agressive Kind &ndash; Ursachen und Bew&auml;ltigungsstrategien
LOCATION:
CLASS:PUBLIC
DTSTART:20260506T160000Z
DTEND:20260506T181500Z
END:VEVENT
END:VCALENDAR