BEGIN:VCALENDAR
VERSION:2.0
PRODID:HAZ Events
BEGIN:VEVENT
UID:
DTSTAMP:1776767595
SUMMARY:Lese-Caf&eacute;
LOCATION:Ballhof Caf&eacute;
CLASS:PUBLIC
DTSTART:20260509T150000Z
DTEND:20260509T170000Z
END:VEVENT
END:VCALENDAR