BEGIN:VCALENDAR
VERSION:2.0
PRODID:HAZ Events
BEGIN:VEVENT
UID:
DTSTAMP:1776768137
SUMMARY:Die B&ouml;sen Schwestern
LOCATION:Marlene
CLASS:PUBLIC
DTSTART:20260627T180000Z
DTEND:20260627T200000Z
END:VEVENT
END:VCALENDAR