BEGIN:VCALENDAR
VERSION:2.0
PRODID:HAZ Events
BEGIN:VEVENT
UID:
DTSTAMP:1776768205
SUMMARY:Die B&ouml;sen Schwestern
LOCATION:Marlene
CLASS:PUBLIC
DTSTART:20260606T180000Z
DTEND:20260606T200000Z
END:VEVENT
END:VCALENDAR