BEGIN:VCALENDAR
VERSION:2.0
PRODID:HAZ Events
BEGIN:VEVENT
UID:
DTSTAMP:1776763427
SUMMARY:Jangueo
LOCATION:Faust Mephisto
CLASS:PUBLIC
DTSTART:20260509T215900Z
DTEND:20260509T235900Z
END:VEVENT
END:VCALENDAR