BEGIN:VCALENDAR
VERSION:2.0
PRODID:HAZ Events
BEGIN:VEVENT
UID:
DTSTAMP:1776763431
SUMMARY:Wyld
LOCATION:Faust 60er Jahre Halle/Mephisto
CLASS:PUBLIC
DTSTART:20260509T210000Z
DTEND:20260509T230000Z
END:VEVENT
END:VCALENDAR