BEGIN:VCALENDAR
VERSION:2.0
PRODID:HAZ Events
BEGIN:VEVENT
UID:
DTSTAMP:1776767623
SUMMARY:Quichotte
LOCATION:Faust Warenannahme
CLASS:PUBLIC
DTSTART:20260509T180000Z
DTEND:20260509T200000Z
END:VEVENT
END:VCALENDAR