BEGIN:VCALENDAR
VERSION:2.0
PRODID:HAZ Events
BEGIN:VEVENT
UID:
DTSTAMP:1776771749
SUMMARY:VfL Bochum &ndash; Hannover 96
LOCATION:Faust Biergarten Gretchen
CLASS:PUBLIC
DTSTART:20260509T110000Z
DTEND:20260509T130000Z
END:VEVENT
END:VCALENDAR