BEGIN:VCALENDAR
VERSION:2.0
PRODID:HAZ Events
BEGIN:VEVENT
UID:
DTSTAMP:1776775926
SUMMARY:Project: Halo
LOCATION:Faust Mephisto
CLASS:PUBLIC
DTSTART:20260508T215900Z
DTEND:20260508T235900Z
END:VEVENT
END:VCALENDAR