BEGIN:VCALENDAR
VERSION:2.0
PRODID:HAZ Events
BEGIN:VEVENT
UID:
DTSTAMP:1776775923
SUMMARY:Party der Befreiung
LOCATION:Faust 60er Jahre Halle
CLASS:PUBLIC
DTSTART:20260508T210000Z
DTEND:20260508T230000Z
END:VEVENT
END:VCALENDAR