BEGIN:VCALENDAR
VERSION:2.0
PRODID:HAZ Events
BEGIN:VEVENT
UID:
DTSTAMP:1776846361
SUMMARY:Garagenflohmarkt
LOCATION:
CLASS:PUBLIC
DTSTART:20260501T090000Z
DTEND:20260501T140000Z
END:VEVENT
END:VCALENDAR