BEGIN:VCALENDAR
VERSION:2.0
PRODID:HAZ Events
BEGIN:VEVENT
UID:
DTSTAMP:1776840866
SUMMARY:Rewind &ndash; Die Zeitreise-Party
LOCATION:Faust 60er Jahre Halle
CLASS:PUBLIC
DTSTART:20260501T210000Z
DTEND:20260501T230000Z
END:VEVENT
END:VCALENDAR