BEGIN:VCALENDAR
VERSION:2.0
PRODID:HAZ Events
BEGIN:VEVENT
UID:
DTSTAMP:1776759078
SUMMARY:Aufst&auml;nde
LOCATION:Kino im Sprengel
CLASS:PUBLIC
DTSTART:20260516T180000Z
DTEND:20260516T200000Z
END:VEVENT
END:VCALENDAR