BEGIN:VCALENDAR
VERSION:2.0
PRODID:HAZ Events
BEGIN:VEVENT
UID:
DTSTAMP:1776759084
SUMMARY:There Is a Light That Never Goes Out
LOCATION:Kino im Sprengel
CLASS:PUBLIC
DTSTART:20260514T180000Z
DTEND:20260514T200000Z
END:VEVENT
END:VCALENDAR