BEGIN:VCALENDAR
VERSION:2.0
PRODID:HAZ Events
BEGIN:VEVENT
UID:
DTSTAMP:1776869560
SUMMARY:Der Teufel tr&auml;gt Prada 2
LOCATION:CineMotion
CLASS:PUBLIC
DTSTART:20260429T173000Z
DTEND:20260429T193000Z
END:VEVENT
END:VCALENDAR