BEGIN:VCALENDAR
VERSION:2.0
PRODID:HAZ Events
BEGIN:VEVENT
UID:
DTSTAMP:1776835362
SUMMARY:Fr&uuml;hst&uuml;ck
LOCATION:Homeyers Hof
CLASS:PUBLIC
DTSTART:20260502T080000Z
DTEND:20260502T110000Z
END:VEVENT
END:VCALENDAR