BEGIN:VCALENDAR
VERSION:2.0
PRODID:HAZ Events
BEGIN:VEVENT
UID:
DTSTAMP:1776877673
SUMMARY:Table-Quiz mit Beate und Gudrun
LOCATION:Homeyers Hof
CLASS:PUBLIC
DTSTART:20260428T170000Z
DTEND:20260428T190000Z
END:VEVENT
END:VCALENDAR