BEGIN:VCALENDAR
VERSION:2.0
PRODID:HAZ Events
BEGIN:VEVENT
UID:
DTSTAMP:1776771860
SUMMARY:Vier Kutschen, ein K&ouml;nigreich
LOCATION:Museum Schloss Herrenhausen
CLASS:PUBLIC
DTSTART:20260509T113000Z
DTEND:20260509T133000Z
END:VEVENT
END:VCALENDAR