BEGIN:VCALENDAR
VERSION:2.0
PRODID:HAZ Events
BEGIN:VEVENT
UID:
DTSTAMP:1776758998
SUMMARY:Br&uuml;ckentag-Special: 3D-Druck-Konstruktion f&uuml;r Anf&auml;ngerinnen und Anf&auml;nger
LOCATION:Stadtbibliothek Hannover
CLASS:PUBLIC
DTSTART:20260515T080000Z
DTEND:20260515T100000Z
END:VEVENT
END:VCALENDAR