BEGIN:VCALENDAR
VERSION:2.0
PRODID:HAZ Events
BEGIN:VEVENT
UID:
DTSTAMP:1776776194
SUMMARY:Gratis Comic Tag &ndash; Kids
LOCATION:Stadtbibliothek Kleefeld
CLASS:PUBLIC
DTSTART:20260509T080000Z
DTEND:20260509T120000Z
END:VEVENT
END:VCALENDAR