BEGIN:VCALENDAR
VERSION:2.0
PRODID:HAZ Events
BEGIN:VEVENT
UID:
DTSTAMP:1776791277
SUMMARY:Mario-Kart-Turnier
LOCATION:Kinder- und Jugendbibliothek S&uuml;dstadt
CLASS:PUBLIC
DTSTART:20260508T140000Z
DTEND:20260508T153000Z
END:VEVENT
END:VCALENDAR