BEGIN:VCALENDAR
VERSION:2.0
PRODID:HAZ Events
BEGIN:VEVENT
UID:
DTSTAMP:1776791278
SUMMARY:Spielenachmittag &bdquo;Deine Meinung z&auml;hlt&ldquo;
LOCATION:Stadtbibliothek Kleefeld
CLASS:PUBLIC
DTSTART:20260508T130000Z
DTEND:20260508T150000Z
END:VEVENT
END:VCALENDAR