BEGIN:VCALENDAR
VERSION:2.0
PRODID:HAZ Events
BEGIN:VEVENT
UID:
DTSTAMP:1776791225
SUMMARY:Herzen basteln zum Muttertag
LOCATION:Kinder- und Jugendbibliothek S&uuml;dstadt
CLASS:PUBLIC
DTSTART:20260508T130000Z
DTEND:20260508T143000Z
END:VEVENT
END:VCALENDAR