BEGIN:VCALENDAR
VERSION:2.0
PRODID:HAZ Events
BEGIN:VEVENT
UID:
DTSTAMP:1776791131
SUMMARY:LegoZeit
LOCATION:Kinder- und Jugendbibliothek S&uuml;dstadt
CLASS:PUBLIC
DTSTART:20260508T123000Z
DTEND:20260508T150000Z
END:VEVENT
END:VCALENDAR