BEGIN:VCALENDAR
VERSION:2.0
PRODID:HAZ Events
BEGIN:VEVENT
UID:
DTSTAMP:1776805179
SUMMARY:Der Regenbogenfisch glaubt nicht alles &ndash; Bilderbuchkino zur Woche der Meinungsfreiheit
LOCATION:Stadtbibliothek Vahrenwald
CLASS:PUBLIC
DTSTART:20260507T140000Z
DTEND:20260507T160000Z
END:VEVENT
END:VCALENDAR