BEGIN:VCALENDAR
VERSION:2.0
PRODID:HAZ Events
BEGIN:VEVENT
UID:
DTSTAMP:1776759159
SUMMARY:Mini-Workshop: Herz &uuml;ber Kopf? Eine kleine Expedition in die Welt der Empathie
LOCATION:Stadtbibliothek Hannover
CLASS:PUBLIC
DTSTART:20260515T140000Z
DTEND:20260515T153000Z
END:VEVENT
END:VCALENDAR