BEGIN:VCALENDAR
VERSION:2.0
PRODID:HAZ Events
BEGIN:VEVENT
UID:
DTSTAMP:1776776174
SUMMARY:Saitenzauber und Kaffeeduft
LOCATION:Stadtbibliothek D&ouml;hren
CLASS:PUBLIC
DTSTART:20260509T080000Z
DTEND:20260509T110000Z
END:VEVENT
END:VCALENDAR