BEGIN:VCALENDAR
VERSION:2.0
PRODID:HAZ Events
BEGIN:VEVENT
UID:
DTSTAMP:1776791298
SUMMARY:Mini-Workshop: &bdquo;Change Management Teil 2&ldquo;
LOCATION:Stadtbibliothek Hannover
CLASS:PUBLIC
DTSTART:20260508T140000Z
DTEND:20260508T153000Z
END:VEVENT
END:VCALENDAR