BEGIN:VCALENDAR
VERSION:2.0
PRODID:HAZ Events
BEGIN:VEVENT
UID:
DTSTAMP:1776821697
SUMMARY:Diskussionsrunde: &bdquo;Was ist wahr? Wahrheit und Meinung im Diskurs&ldquo;
LOCATION:Stadtbibliothek Hannover
CLASS:PUBLIC
DTSTART:20260506T153000Z
DTEND:20260506T173000Z
END:VEVENT
END:VCALENDAR