BEGIN:VCALENDAR
VERSION:2.0
PRODID:HAZ Events
BEGIN:VEVENT
UID:
DTSTAMP:1776829867
SUMMARY:Deutsch-franz&ouml;sische Lesung &bdquo;Post fronti&egrave;re &ndash; Grenz&uuml;berschreitungen&ldquo;
LOCATION:Oststadtbibliothek
CLASS:PUBLIC
DTSTART:20260505T170000Z
DTEND:20260505T190000Z
END:VEVENT
END:VCALENDAR