BEGIN:VCALENDAR
VERSION:2.0
PRODID:HAZ Events
BEGIN:VEVENT
UID:
DTSTAMP:1776877489
SUMMARY:Harmonien. Singen. Begleiten.
LOCATION:
CLASS:PUBLIC
DTSTART:20260428T164500Z
DTEND:20260428T173000Z
END:VEVENT
END:VCALENDAR