BEGIN:VCALENDAR
VERSION:2.0
PRODID:HAZ Events
BEGIN:VEVENT
UID:
DTSTAMP:1776875087
SUMMARY:Tasten. Tr&auml;ume. T&ouml;ne
LOCATION:
CLASS:PUBLIC
DTSTART:20260429T083000Z
DTEND:20260429T091500Z
END:VEVENT
END:VCALENDAR