BEGIN:VCALENDAR
VERSION:2.0
PRODID:HAZ Events
BEGIN:VEVENT
UID:
DTSTAMP:1776781885
SUMMARY:Kindermusikfest
LOCATION:Gro&szlig;er Sendesaal im NDR Konzerthaus
CLASS:PUBLIC
DTSTART:20260509T130000Z
DTEND:20260509T160000Z
END:VEVENT
END:VCALENDAR